BEGIN:VCALENDAR
VERSION:2.0
PRODID:-//Sabre//Sabre VObject 4.5.8//EN
CALSCALE:GREGORIAN
BEGIN:VEVENT
UID:sabre-vobject-fdeef1d9-33a5-45a3-994d-3aba8ec5e484
DTSTAMP:20260423T170313Z
SUMMARY:Liturgie vom Leiden und Sterben Christi - musikalische Gestaltung: 
 Chorsätze zum Karfreitag\, Kirchenchor \nanschl. Anbetung vor dem Kreuz b
 is 18.30 Uhr
DESCRIPTION:https://pfarreien-bistum-augsburg.df-preview.de/liturgie-vom-le
 iden-und-sterben-christi-musikalische-gestaltung-chorsaetze-zum-karfreitag
 -kirchenchor-anschl-anbetung-vor-dem-kreuz-bis-18-30-uhr_id1685291
DTSTART;TZID=Europe/Berlin:20260403T150000
DURATION:PT30M
LOCATION:St. Pankratius
END:VEVENT
END:VCALENDAR
