BEGIN:VCALENDAR
VERSION:2.0
PRODID:-//Sabre//Sabre VObject 4.5.8//EN
CALSCALE:GREGORIAN
BEGIN:VEVENT
UID:sabre-vobject-85f84a54-916e-43b5-aee3-4ddaae59e52b
DTSTAMP:20260424T023944Z
SUMMARY:bis 9.30 Uhr Beichtgelegenheit
DESCRIPTION:https://pfarreien-bistum-augsburg.df-preview.de/bis-9-30-uhr-be
 ichtgelegenheit_id1685290
DTSTART;TZID=Europe/Berlin:20260403T083000
DURATION:PT30M
LOCATION:St. Pankratius
END:VEVENT
END:VCALENDAR
