BEGIN:VCALENDAR
VERSION:2.0
PRODID:-//Sabre//Sabre VObject 4.5.8//EN
CALSCALE:GREGORIAN
BEGIN:VEVENT
UID:sabre-vobject-bd392cda-644b-4d08-8683-b6d5e33219f5
DTSTAMP:20260424T053048Z
SUMMARY:Betstunden 21 Uhr Frauenbund/22 Uhr Kolping/23 Uhr Jugend
DESCRIPTION:https://pfarreien-bistum-augsburg.df-preview.de/betstunden-21-u
 hr-frauenbund-22-uhr-kolping-23-uhr-jugend_id1685289
DTSTART;TZID=Europe/Berlin:20260402T210000
DURATION:PT30M
LOCATION:St. Pankratius
END:VEVENT
END:VCALENDAR
