BEGIN:VCALENDAR
VERSION:2.0
PRODID:-//Sabre//Sabre VObject 4.5.8//EN
CALSCALE:GREGORIAN
BEGIN:VEVENT
UID:sabre-vobject-d4b8cfe9-f09b-46a5-ac88-60360c1965db
DTSTAMP:20260421T004752Z
SUMMARY:Stille Anbetung
DESCRIPTION:https://pfarreien-bistum-augsburg.df-preview.de/stille-anbetung
 _id1684247
DTSTART;TZID=Europe/Berlin:20260403T100000
DURATION:PT30M
LOCATION:Zum Hlgst. Erlöser\, Wellenburger Str. 58\, 86199 Augsburg-Göggi
 ngen
END:VEVENT
END:VCALENDAR
