BEGIN:VCALENDAR
VERSION:2.0
PRODID:-//Sabre//Sabre VObject 4.5.8//EN
CALSCALE:GREGORIAN
BEGIN:VEVENT
UID:sabre-vobject-aab74a0d-bf7b-483e-8be0-7f11d7fdb671
DTSTAMP:20260424T011745Z
SUMMARY:Wortgottesdienst für Kinder
DESCRIPTION:https://pfarreien-bistum-augsburg.df-preview.de/wortgottesdiens
 t-fuer-kinder_id1684237
DTSTART;TZID=Europe/Berlin:20260329T100000
DURATION:PT30M
LOCATION:Zum Hlgst. Erlöser\, Wellenburger Str. 58\, 86199 Augsburg-Göggi
 ngen
END:VEVENT
END:VCALENDAR
