BEGIN:VCALENDAR
VERSION:2.0
PRODID:-//Sabre//Sabre VObject 4.5.8//EN
CALSCALE:GREGORIAN
BEGIN:VEVENT
UID:sabre-vobject-a4510a7c-ac82-4106-a506-143e248eb013
DTSTAMP:20260420T233407Z
SUMMARY:Andacht
DESCRIPTION:https://pfarreien-bistum-augsburg.df-preview.de/andacht_id16842
 33
DTSTART;TZID=Europe/Berlin:20260402T203000
DURATION:PT30M
LOCATION:St. Remigius
END:VEVENT
END:VCALENDAR
