BEGIN:VCALENDAR
VERSION:2.0
PRODID:-//Sabre//Sabre VObject 4.5.8//EN
CALSCALE:GREGORIAN
BEGIN:VEVENT
UID:sabre-vobject-996d7a2b-c49d-4b24-84f2-d4ad226b6ca1
DTSTAMP:20260422T140912Z
SUMMARY:Frauenkreis\, Pfarrheim Langweid
DESCRIPTION:https://pfarreien-bistum-augsburg.df-preview.de/frauenkreis-pfa
 rrheim-langweid_id1684104
DTSTART;TZID=Europe/Berlin:20260401T090000
DURATION:PT30M
LOCATION:St. Vitus\, Augsburger Str. 32\, 86462 Langweid
END:VEVENT
END:VCALENDAR
