BEGIN:VCALENDAR
VERSION:2.0
PRODID:-//Sabre//Sabre VObject 4.5.8//EN
CALSCALE:GREGORIAN
BEGIN:VEVENT
UID:sabre-vobject-be1c0efa-b431-4eb7-b6b9-7eb30326f22c
DTSTAMP:20260422T055427Z
SUMMARY:Heilige Messe vom letzten Abendmahl mit Fußwaschung\nMusik. Gest.:
  Kirchenchöre "St. Vitus" Langweid und "Pastor Bonus" Stettenhofen
DESCRIPTION:https://pfarreien-bistum-augsburg.df-preview.de/heilige-messe-v
 om-letzten-abendmahl-mit-fusswaschung-musik-gest-kirchenchoere-st-vitus-la
 ngweid-und-pastor-bonus-stettenhofen_id1684094
DTSTART;TZID=Europe/Berlin:20260402T190000
DURATION:PT30M
LOCATION:St. Vitus\, Augsburger Str. 32\, 86462 Langweid
END:VEVENT
END:VCALENDAR
