BEGIN:VCALENDAR
VERSION:2.0
PRODID:-//Sabre//Sabre VObject 4.5.8//EN
CALSCALE:GREGORIAN
BEGIN:VEVENT
UID:sabre-vobject-afd7af2b-de99-4027-b858-3cb9a57cda32
DTSTAMP:20260425T140943Z
SUMMARY:Festgottesdienst zu Palmsonntag\, Beginn am Kindergarten\, Prozessi
 on zur Pfarrkirche
DESCRIPTION:https://pfarreien-bistum-augsburg.df-preview.de/festgottesdiens
 t-zu-palmsonntag-beginn-am-kindergarten-prozession-zur-pfarrkirche_id16840
 25
DTSTART;TZID=Europe/Berlin:20260328T180000
DURATION:PT30M
LOCATION:St. Peter und Paul\, Kirchweg 2\, 86462 Langweid-Achsheim
END:VEVENT
END:VCALENDAR
