BEGIN:VCALENDAR
VERSION:2.0
PRODID:-//Sabre//Sabre VObject 4.5.8//EN
CALSCALE:GREGORIAN
BEGIN:VEVENT
UID:sabre-vobject-aa5827e9-0d9a-4ccc-ab9e-5b4623b227c4
DTSTAMP:20260425T130206Z
SUMMARY:Kindergottesdienst im Pfarrheim Achsheim
DESCRIPTION:https://pfarreien-bistum-augsburg.df-preview.de/kindergottesdie
 nst-im-pfarrheim-achsheim_id1684024
DTSTART;TZID=Europe/Berlin:20260329T100000
DURATION:PT30M
LOCATION:St. Peter und Paul\, Kirchweg 2\, 86462 Langweid-Achsheim
END:VEVENT
END:VCALENDAR
