BEGIN:VCALENDAR
VERSION:2.0
PRODID:-//Sabre//Sabre VObject 4.5.8//EN
CALSCALE:GREGORIAN
BEGIN:VEVENT
UID:sabre-vobject-d8d091b3-b025-4049-9c68-e931eb12cc48
DTSTAMP:20260421T123355Z
SUMMARY:Rosenkranz
DESCRIPTION:https://pfarreien-bistum-augsburg.df-preview.de/rosenkranz_id16
 83942
DTSTART;TZID=Europe/Berlin:20260318T163000
DURATION:PT30M
LOCATION:St. Michael
END:VEVENT
END:VCALENDAR
