BEGIN:VCALENDAR
VERSION:2.0
PRODID:-//Sabre//Sabre VObject 4.5.8//EN
CALSCALE:GREGORIAN
BEGIN:VEVENT
UID:sabre-vobject-fa3abfba-7704-4167-862e-2a0133e4586a
DTSTAMP:20260421T075003Z
SUMMARY:Pfarrgottesdienst
DESCRIPTION:https://pfarreien-bistum-augsburg.df-preview.de/pfarrgottesdien
 st_id1683935
DTSTART;TZID=Europe/Berlin:20260329T091500
DURATION:PT30M
LOCATION:St. Peter und Paul
END:VEVENT
END:VCALENDAR
