BEGIN:VCALENDAR
VERSION:2.0
PRODID:-//Sabre//Sabre VObject 4.5.8//EN
CALSCALE:GREGORIAN
BEGIN:VEVENT
UID:sabre-vobject-28e546ba-997f-4eaf-89ad-cd4335e73553
DTSTAMP:20260421T175840Z
SUMMARY:Österlicher Bußgottesdienst m. anschl. Beichtgelegenheit
DESCRIPTION:https://pfarreien-bistum-augsburg.df-preview.de/oesterlicher-bu
 ssgottesdienst-m-anschl-beichtgelegenheit_id1683934
DTSTART;TZID=Europe/Berlin:20260324T190000
DURATION:PT30M
LOCATION:St. Peter und Paul
END:VEVENT
END:VCALENDAR
