BEGIN:VCALENDAR
VERSION:2.0
PRODID:-//Sabre//Sabre VObject 4.5.8//EN
CALSCALE:GREGORIAN
BEGIN:VEVENT
UID:sabre-vobject-08f9bac4-3d03-451c-accf-bc1d45454cfd
DTSTAMP:20260421T182837Z
SUMMARY:Rosenkranz um geistliche Berufe
DESCRIPTION:https://pfarreien-bistum-augsburg.df-preview.de/rosenkranz-um-g
 eistliche-berufe_id1683825
DTSTART;TZID=Europe/Berlin:20260319T183000
DURATION:PT30M
LOCATION:St. Peter und Paul\, Dorfstraße 52\, 88171 Ellhofen
END:VEVENT
END:VCALENDAR
