BEGIN:VCALENDAR
VERSION:2.0
PRODID:-//Sabre//Sabre VObject 4.5.8//EN
CALSCALE:GREGORIAN
BEGIN:VEVENT
UID:sabre-vobject-8d850a0f-ee66-42e9-991e-bec77123e26c
DTSTAMP:20260420T212810Z
SUMMARY:Kreuzwegandacht
DESCRIPTION:https://pfarreien-bistum-augsburg.df-preview.de/kreuzwegandacht
 _id1683815
DTSTART;TZID=Europe/Berlin:20260320T170000
DURATION:PT30M
LOCATION:St. Joseph\, Alte Salzstraße 47\, 88171 Simmerberg
END:VEVENT
END:VCALENDAR
