BEGIN:VCALENDAR
VERSION:2.0
PRODID:-//Sabre//Sabre VObject 4.5.8//EN
CALSCALE:GREGORIAN
BEGIN:VEVENT
UID:sabre-vobject-f045e52d-a1b3-456a-b914-8bac0749080d
DTSTAMP:20260422T033556Z
SUMMARY:Heilige Messe zum Emmaustag
DESCRIPTION:https://pfarreien-bistum-augsburg.df-preview.de/heilige-messe-z
 um-emmaustag_id1683599
DTSTART;TZID=Europe/Berlin:20260406T100000
DURATION:PT30M
LOCATION:Zu den Heiligen Engeln
END:VEVENT
END:VCALENDAR
