BEGIN:VCALENDAR
VERSION:2.0
PRODID:-//Sabre//Sabre VObject 4.5.8//EN
CALSCALE:GREGORIAN
BEGIN:VEVENT
UID:sabre-vobject-58abd632-8549-403b-a5e9-137d53372190
DTSTAMP:20260423T182046Z
SUMMARY:Fest- und Familiengottesdienst mit Palmbuschensegnung und Prozessio
 n
DESCRIPTION:https://pfarreien-bistum-augsburg.df-preview.de/fest-und-famili
 engottesdienst-mit-palmbuschensegnung-und-prozession_id1683567
DTSTART;TZID=Europe/Berlin:20260329T100000
DURATION:PT30M
LOCATION:Zu den Heiligen Engeln
END:VEVENT
END:VCALENDAR
