BEGIN:VCALENDAR
VERSION:2.0
PRODID:-//Sabre//Sabre VObject 4.5.8//EN
CALSCALE:GREGORIAN
BEGIN:VEVENT
UID:sabre-vobject-3f6e6886-f6b3-416c-932e-fe264a2a33f0
DTSTAMP:20260424T092744Z
SUMMARY:Heilige Messe
DESCRIPTION:https://pfarreien-bistum-augsburg.df-preview.de/heilige-messe_i
 d1683566
DTSTART;TZID=Europe/Berlin:20260326T183000
DURATION:PT30M
LOCATION:Zu den Heiligen Engeln
END:VEVENT
END:VCALENDAR
