BEGIN:VCALENDAR
VERSION:2.0
PRODID:-//Sabre//Sabre VObject 4.5.8//EN
CALSCALE:GREGORIAN
BEGIN:VEVENT
UID:sabre-vobject-255152cb-2509-4d6d-b76c-97160dc4c39c
DTSTAMP:20260423T205852Z
SUMMARY:Pfarrsaal - Palmbuschenbinden
DESCRIPTION:https://pfarreien-bistum-augsburg.df-preview.de/pfarrsaal-palmb
 uschenbinden_id1683562
DTSTART;TZID=Europe/Berlin:20260328T100000
DURATION:PT30M
LOCATION:Zu den Heiligen Engeln
END:VEVENT
END:VCALENDAR
