BEGIN:VCALENDAR
VERSION:2.0
PRODID:-//Sabre//Sabre VObject 4.5.8//EN
CALSCALE:GREGORIAN
BEGIN:VEVENT
UID:sabre-vobject-a31b7e1d-352f-48d6-bb8d-541a8feba259
DTSTAMP:20260424T092841Z
SUMMARY:Taufkapelle - Frühschicht der Jugend
DESCRIPTION:https://pfarreien-bistum-augsburg.df-preview.de/taufkapelle-fru
 ehschicht-der-jugend_id1683551
DTSTART;TZID=Europe/Berlin:20260327T063000
DURATION:PT30M
LOCATION:Zu den Heiligen Engeln
END:VEVENT
END:VCALENDAR
