BEGIN:VCALENDAR
VERSION:2.0
PRODID:-//Sabre//Sabre VObject 4.5.8//EN
CALSCALE:GREGORIAN
BEGIN:VEVENT
UID:sabre-vobject-38565329-81ee-4243-b7e7-90a7528ee6b6
DTSTAMP:20260424T043709Z
SUMMARY:Hl. Messe\, anschl. Fastenandacht
DESCRIPTION:https://pfarreien-bistum-augsburg.df-preview.de/hl-messe-anschl
 -fastenandacht_id1683380
DTSTART;TZID=Europe/Berlin:20260320T083000
DURATION:PT30M
LOCATION:Mariä Heimsuchung
END:VEVENT
END:VCALENDAR
