BEGIN:VCALENDAR
VERSION:2.0
PRODID:-//Sabre//Sabre VObject 4.5.8//EN
CALSCALE:GREGORIAN
BEGIN:VEVENT
UID:sabre-vobject-4d20db99-97c4-4fa0-a93d-dd0569d8583b
DTSTAMP:20260424T100233Z
SUMMARY:Eucharistiefeier\, anschl. euch. Anbetung
DESCRIPTION:https://pfarreien-bistum-augsburg.df-preview.de/eucharistiefeie
 r-anschl-euch-anbetung_id1682977
DTSTART;TZID=Europe/Berlin:20260324T183000
DURATION:PT30M
LOCATION:St. Nikolaus\, Bahnhofstraße 4\, 82211 Herrsching
END:VEVENT
END:VCALENDAR
