BEGIN:VCALENDAR
VERSION:2.0
PRODID:-//Sabre//Sabre VObject 4.5.8//EN
CALSCALE:GREGORIAN
BEGIN:VEVENT
UID:sabre-vobject-2b9eb548-1b3e-4907-ba48-5e6f42946ec6
DTSTAMP:20260420T170626Z
SUMMARY:Rosenkranz und Osterbeichtgelegenheit in Sameister
DESCRIPTION:https://pfarreien-bistum-augsburg.df-preview.de/rosenkranz-und-
 osterbeichtgelegenheit-in-sameister_id1682887
DTSTART;TZID=Europe/Berlin:20260319T153000
DURATION:PT30M
LOCATION:Kapelle Mariä Sieben Schmerzen\, Sameister 10\, 87672 Roßhaupten
END:VEVENT
END:VCALENDAR
