BEGIN:VCALENDAR
VERSION:2.0
PRODID:-//Sabre//Sabre VObject 4.5.8//EN
CALSCALE:GREGORIAN
BEGIN:VEVENT
UID:sabre-vobject-52a0c379-4503-44f8-b77a-be7fdf0196f2
DTSTAMP:20260424T152130Z
SUMMARY:Passionsmusik: Musikalische Vesper mit Solo-\, Chor- und Orgelwerke
 n von Felix Mendelssohn-Bartholdy und dem Chor der PG Ammersee-Ost
DESCRIPTION:https://pfarreien-bistum-augsburg.df-preview.de/passionsmusik-m
 usikalische-vesper-mit-solo-chor-und-orgelwerken-von-felix-mendelssohn-bar
 tholdy-und-dem-chor-der-pg-ammersee-ost_id1682868
DTSTART;TZID=Europe/Berlin:20260322T170000
DURATION:PT30M
LOCATION:St. Nikolaus\, Bahnhofstraße 4\, 82211 Herrsching
END:VEVENT
END:VCALENDAR
