BEGIN:VCALENDAR
VERSION:2.0
PRODID:-//Sabre//Sabre VObject 4.5.8//EN
CALSCALE:GREGORIAN
BEGIN:VEVENT
UID:sabre-vobject-982554c9-3ae1-411d-b8b8-1eb1c264c13c
DTSTAMP:20260424T185623Z
SUMMARY:Sonntägliche Eucharistiefeier
DESCRIPTION:https://pfarreien-bistum-augsburg.df-preview.de/sonntaegliche-e
 ucharistiefeier_id1682857
DTSTART;TZID=Europe/Berlin:20260322T113000
DURATION:PT30M
LOCATION:St. Nikolaus\, Bahnhofstraße 4\, 82211 Herrsching
END:VEVENT
END:VCALENDAR
