BEGIN:VCALENDAR
VERSION:2.0
PRODID:-//Sabre//Sabre VObject 4.5.8//EN
CALSCALE:GREGORIAN
BEGIN:VEVENT
UID:sabre-vobject-2d4b75b5-4ed7-41d5-a2b1-695415685dc2
DTSTAMP:20260424T162440Z
SUMMARY:Heilige Messe in den Anliegen aller\, die mit dem Crescentiakloster
  verbunden sind
DESCRIPTION:https://pfarreien-bistum-augsburg.df-preview.de/heilige-messe-i
 n-den-anliegen-aller-die-mit-dem-crescentiakloster-verbunden-sind_id168208
 2
DTSTART;TZID=Europe/Berlin:20260327T190000
DURATION:PT30M
LOCATION:St. Martin
END:VEVENT
END:VCALENDAR
