BEGIN:VCALENDAR
VERSION:2.0
PRODID:-//Sabre//Sabre VObject 4.5.8//EN
CALSCALE:GREGORIAN
BEGIN:VEVENT
UID:sabre-vobject-b5ea93e6-ffa0-4945-b19f-e7103069736f
DTSTAMP:20260424T211508Z
SUMMARY:Bußgottesdienst
DESCRIPTION:https://pfarreien-bistum-augsburg.df-preview.de/bussgottesdiens
 t_id1682074
DTSTART;TZID=Europe/Berlin:20260324T190000
DURATION:PT30M
LOCATION:St. Ulrich\, Gartenweg 30\, 87600 Kaufbeuren
END:VEVENT
END:VCALENDAR
