BEGIN:VCALENDAR
VERSION:2.0
PRODID:-//Sabre//Sabre VObject 4.5.8//EN
CALSCALE:GREGORIAN
BEGIN:VEVENT
UID:sabre-vobject-9a8ac85b-a857-4bc7-82a7-0ac08cee9050
DTSTAMP:20260425T003711Z
SUMMARY:Heilige Messe\, anschl. Solibrot-Verkauf
DESCRIPTION:https://pfarreien-bistum-augsburg.df-preview.de/heilige-messe-a
 nschl-solibrot-verkauf_id1682073
DTSTART;TZID=Europe/Berlin:20260322T100000
DURATION:PT30M
LOCATION:St. Ulrich\, Gartenweg 30\, 87600 Kaufbeuren
END:VEVENT
END:VCALENDAR
