BEGIN:VCALENDAR
VERSION:2.0
PRODID:-//Sabre//Sabre VObject 4.5.8//EN
CALSCALE:GREGORIAN
BEGIN:VEVENT
UID:sabre-vobject-8ab04402-8092-4b7e-a755-981562076b34
DTSTAMP:20260424T184456Z
SUMMARY:Kreuzwegandacht
DESCRIPTION:https://pfarreien-bistum-augsburg.df-preview.de/kreuzwegandacht
 _id1682033
DTSTART;TZID=Europe/Berlin:20260327T171500
DURATION:PT30M
LOCATION:St. Martin
END:VEVENT
END:VCALENDAR
