BEGIN:VCALENDAR
VERSION:2.0
PRODID:-//Sabre//Sabre VObject 4.5.8//EN
CALSCALE:GREGORIAN
BEGIN:VEVENT
UID:sabre-vobject-551a54c7-050e-4f76-8354-360508b849cf
DTSTAMP:20260423T022247Z
SUMMARY:Beichtgelegenheit
DESCRIPTION:https://pfarreien-bistum-augsburg.df-preview.de/beichtgelegenhe
 it_id1681889
DTSTART;TZID=Europe/Berlin:20260402T180000
DURATION:PT30M
LOCATION:St. Nikolaus\, Bahnhofstraße 4\, 82211 Herrsching
END:VEVENT
END:VCALENDAR
