BEGIN:VCALENDAR
VERSION:2.0
PRODID:-//Sabre//Sabre VObject 4.5.8//EN
CALSCALE:GREGORIAN
BEGIN:VEVENT
UID:sabre-vobject-3943b273-c6da-4172-88c5-5a4a803c4834
DTSTAMP:20260421T094444Z
SUMMARY:Stilles Gebet am Ölberg (bis 15 Uhr)
DESCRIPTION:https://pfarreien-bistum-augsburg.df-preview.de/stilles-gebet-a
 m-oelberg-bis-15-uhr_id1681886
DTSTART;TZID=Europe/Berlin:20260404T120000
DURATION:PT30M
LOCATION:St. Nikolaus\, Bahnhofstraße 4\, 82211 Herrsching
END:VEVENT
END:VCALENDAR
