BEGIN:VCALENDAR
VERSION:2.0
PRODID:-//Sabre//Sabre VObject 4.5.8//EN
CALSCALE:GREGORIAN
BEGIN:VEVENT
UID:sabre-vobject-b6df1bc9-6b4c-45ac-8e71-b420434e65d3
DTSTAMP:20260423T021217Z
SUMMARY:Die Feier des letzten Abendmahls - Gründonnerstagsliturgie\, ansch
 l. Andacht am Ölberg\, gestaltet vom KDFB
DESCRIPTION:https://pfarreien-bistum-augsburg.df-preview.de/die-feier-des-l
 etzten-abendmahls-gruendonnerstagsliturgie-anschl-andacht-am-oelberg-gesta
 ltet-vom-kdfb_id1681869
DTSTART;TZID=Europe/Berlin:20260402T193000
DURATION:PT30M
LOCATION:St. Nikolaus\, Bahnhofstraße 4\, 82211 Herrsching
END:VEVENT
END:VCALENDAR
