BEGIN:VCALENDAR
VERSION:2.0
PRODID:-//Sabre//Sabre VObject 4.5.8//EN
CALSCALE:GREGORIAN
BEGIN:VEVENT
UID:sabre-vobject-47aa4f71-3fb5-483f-9a85-0c0cbad718a6
DTSTAMP:20260422T064139Z
SUMMARY:Andacht an der Josefskapelle musikalisch gest. von der Jugendkapell
 e
DESCRIPTION:https://pfarreien-bistum-augsburg.df-preview.de/andacht-an-der-
 josefskapelle-musikalisch-gest-von-der-jugendkapelle_id1681586
DTSTART;TZID=Europe/Berlin:20260319T183000
DURATION:PT30M
LOCATION:St. Gallus
END:VEVENT
END:VCALENDAR
