BEGIN:VCALENDAR
VERSION:2.0
PRODID:-//Sabre//Sabre VObject 4.5.8//EN
CALSCALE:GREGORIAN
BEGIN:VEVENT
UID:sabre-vobject-0396ec87-a29c-4d2d-ac08-b4bf5c5b2073
DTSTAMP:20260422T192522Z
SUMMARY:Messe
DESCRIPTION:https://pfarreien-bistum-augsburg.df-preview.de/messe_id1681525
DTSTART;TZID=Europe/Berlin:20260324T191500
DURATION:PT30M
LOCATION:St. Michael\, St.-Michaels-Platz\, 86316 Friedberg
END:VEVENT
END:VCALENDAR
