BEGIN:VCALENDAR
VERSION:2.0
PRODID:-//Sabre//Sabre VObject 4.5.8//EN
CALSCALE:GREGORIAN
BEGIN:VEVENT
UID:sabre-vobject-702ca5e9-a9c9-40f5-b85c-88df2f1a568b
DTSTAMP:20260423T001920Z
SUMMARY:Sonntagvorabendmesse für alle Lebenden u. Verstorbenen der \nPfarr
 eiengemeinschaft
DESCRIPTION:https://pfarreien-bistum-augsburg.df-preview.de/sonntagvorabend
 messe-fuer-alle-lebenden-u-verstorbenen-der-pfarreiengemeinschaft_id168152
 2
DTSTART;TZID=Europe/Berlin:20260321T183000
DURATION:PT30M
LOCATION:St. Michael\, St.-Michaels-Platz\, 86316 Friedberg
END:VEVENT
END:VCALENDAR
