BEGIN:VCALENDAR
VERSION:2.0
PRODID:-//Sabre//Sabre VObject 4.5.8//EN
CALSCALE:GREGORIAN
BEGIN:VEVENT
UID:sabre-vobject-3518ee7a-2fa2-4aa3-bb7b-94c4efab4792
DTSTAMP:20260422T031844Z
SUMMARY:Messe
DESCRIPTION:https://pfarreien-bistum-augsburg.df-preview.de/messe_id1681503
DTSTART;TZID=Europe/Berlin:20260322T100000
DURATION:PT30M
LOCATION:St. Antonius\, Schweglerstraße 1\, 86495 Eurasburg
END:VEVENT
END:VCALENDAR
