BEGIN:VCALENDAR
VERSION:2.0
PRODID:-//Sabre//Sabre VObject 4.5.8//EN
CALSCALE:GREGORIAN
BEGIN:VEVENT
UID:sabre-vobject-cff287ff-f276-4a01-a373-9d057fb6e874
DTSTAMP:20260424T150202Z
SUMMARY:Eucharistiefeier am Palmsonntag mit Palmprozession
DESCRIPTION:https://pfarreien-bistum-augsburg.df-preview.de/eucharistiefeie
 r-am-palmsonntag-mit-palmprozession_id1680270
DTSTART;TZID=Europe/Berlin:20260329T083000
DURATION:PT30M
LOCATION:Kuratie Maria vom Siege\, Am Burgpl. 3\, 86551 Aichach
END:VEVENT
END:VCALENDAR
