BEGIN:VCALENDAR
VERSION:2.0
PRODID:-//Sabre//Sabre VObject 4.5.8//EN
CALSCALE:GREGORIAN
BEGIN:VEVENT
UID:sabre-vobject-9e84e9df-17bc-4351-b459-235c57565e41
DTSTAMP:20260425T020039Z
SUMMARY:HM
DESCRIPTION:https://pfarreien-bistum-augsburg.df-preview.de/hm_id1680077
DTSTART;TZID=Europe/Berlin:20260322T084500
DURATION:PT30M
LOCATION:St. Sebastian
END:VEVENT
END:VCALENDAR
