BEGIN:VCALENDAR
VERSION:2.0
PRODID:-//Sabre//Sabre VObject 4.5.8//EN
CALSCALE:GREGORIAN
BEGIN:VEVENT
UID:sabre-vobject-83b00fca-8fdf-4a77-a9c0-e61f8a3dc301
DTSTAMP:20260423T005014Z
SUMMARY:Anbetung und Rosenkranz
DESCRIPTION:https://pfarreien-bistum-augsburg.df-preview.de/anbetung-und-ro
 senkranz_id1679409
DTSTART;TZID=Europe/Berlin:20260327T171500
DURATION:PT30M
LOCATION:St. Mauritius
END:VEVENT
END:VCALENDAR
