BEGIN:VCALENDAR
VERSION:2.0
PRODID:-//Sabre//Sabre VObject 4.5.8//EN
CALSCALE:GREGORIAN
BEGIN:VEVENT
UID:sabre-vobject-904f4fe6-d9e9-4472-ad67-8c6b12ac6516
DTSTAMP:20260424T182157Z
SUMMARY:Entfällt - Rosenkranz
DESCRIPTION:https://pfarreien-bistum-augsburg.df-preview.de/entfaellt-rosen
 kranz_id1679309
DTSTART;TZID=Europe/Berlin:20260327T172000
DURATION:PT30M
LOCATION:St. Peter und Paul
END:VEVENT
END:VCALENDAR
