BEGIN:VCALENDAR
VERSION:2.0
PRODID:-//Sabre//Sabre VObject 4.5.8//EN
CALSCALE:GREGORIAN
BEGIN:VEVENT
UID:sabre-vobject-798c73a4-88cc-48a3-9678-ea860550e123
DTSTAMP:20260424T122416Z
SUMMARY:Abend der Versöhnung - Heilige Messe\, Anbetung und Beichtgelegenh
 eit bis ca. 20:30 Uhr
DESCRIPTION:https://pfarreien-bistum-augsburg.df-preview.de/abend-der-verso
 ehnung-heilige-messe-anbetung-und-beichtgelegenheit-bis-ca-20-30-uhr_id167
 9204
DTSTART;TZID=Europe/Berlin:20260327T180000
DURATION:PT30M
LOCATION:St. Joseph
END:VEVENT
END:VCALENDAR
