BEGIN:VCALENDAR
VERSION:2.0
PRODID:-//Sabre//Sabre VObject 4.5.8//EN
CALSCALE:GREGORIAN
BEGIN:VEVENT
UID:sabre-vobject-99446e5d-f27c-4125-a3d4-29db9e831f09
DTSTAMP:20260423T044821Z
SUMMARY:bis 16:30 Beichtgelegenheit in der Seitenkapelle im blickdichten Be
 ichtstuhl
DESCRIPTION:https://pfarreien-bistum-augsburg.df-preview.de/bis-16-30-beich
 tgelegenheit-in-der-seitenkapelle-im-blickdichten-beichtstuhl_id1679165
DTSTART;TZID=Europe/Berlin:20260321T160000
DURATION:PT30M
LOCATION:St. Laurentius
END:VEVENT
END:VCALENDAR
