BEGIN:VCALENDAR
VERSION:2.0
PRODID:-//Sabre//Sabre VObject 4.5.8//EN
CALSCALE:GREGORIAN
BEGIN:VEVENT
UID:sabre-vobject-7e3720c0-1e10-48dc-8d31-f01f858b70bf
DTSTAMP:20260422T072153Z
SUMMARY:Schülerbeichte vor Ostern
DESCRIPTION:https://pfarreien-bistum-augsburg.df-preview.de/schuelerbeichte
 -vor-ostern_id1678896
DTSTART;TZID=Europe/Berlin:20260326T183000
DURATION:PT30M
LOCATION:Heilig Kreuz
END:VEVENT
END:VCALENDAR
