BEGIN:VCALENDAR
VERSION:2.0
PRODID:-//Sabre//Sabre VObject 4.5.8//EN
CALSCALE:GREGORIAN
BEGIN:VEVENT
UID:sabre-vobject-81244234-e4f5-44a9-8537-1a3b5e57b6bc
DTSTAMP:20260422T073342Z
SUMMARY:Seniorennachmittag im Schützenheim
DESCRIPTION:https://pfarreien-bistum-augsburg.df-preview.de/seniorennachmit
 tag-im-schuetzenheim_id1678893
DTSTART;TZID=Europe/Berlin:20260322T140000
DURATION:PT30M
LOCATION:Heilig Kreuz
END:VEVENT
END:VCALENDAR
