BEGIN:VCALENDAR
VERSION:2.0
PRODID:-//Sabre//Sabre VObject 4.5.8//EN
CALSCALE:GREGORIAN
BEGIN:VEVENT
UID:sabre-vobject-c8042692-f7bf-4699-a84e-329fb66e2b65
DTSTAMP:20260422T124713Z
SUMMARY:Taufe von Lara Kestel
DESCRIPTION:https://pfarreien-bistum-augsburg.df-preview.de/taufe-von-lara-
 kestel_id1678892
DTSTART;TZID=Europe/Berlin:20260321T140000
DURATION:PT30M
LOCATION:Heilig Kreuz
END:VEVENT
END:VCALENDAR
