BEGIN:VCALENDAR
VERSION:2.0
PRODID:-//Sabre//Sabre VObject 4.5.8//EN
CALSCALE:GREGORIAN
BEGIN:VEVENT
UID:sabre-vobject-3d4eb5d3-665e-406f-ad06-3ae2e3d64cfc
DTSTAMP:20260422T231812Z
SUMMARY:Wortgottesfeier im ASB-Seniorenzentrum "An der Sulzach"
DESCRIPTION:https://pfarreien-bistum-augsburg.df-preview.de/wortgottesfeier
 -im-asb-seniorenzentrum-an-der-sulzach_id1678709
DTSTART;TZID=Europe/Berlin:20260318T100000
DURATION:PT30M
LOCATION:St. Ulrich und Afra
END:VEVENT
END:VCALENDAR
