BEGIN:VCALENDAR
VERSION:2.0
PRODID:-//Sabre//Sabre VObject 4.5.8//EN
CALSCALE:GREGORIAN
BEGIN:VEVENT
UID:sabre-vobject-710dba76-b050-4750-b0c5-ffb331538af7
DTSTAMP:20260425T011500Z
SUMMARY:Hl. Messe
DESCRIPTION:https://pfarreien-bistum-augsburg.df-preview.de/hl-messe_id1678
 675
DTSTART;TZID=Europe/Berlin:20260326T183000
DURATION:PT30M
LOCATION:Maria Immaculata
END:VEVENT
END:VCALENDAR
