BEGIN:VCALENDAR
VERSION:2.0
PRODID:-//Sabre//Sabre VObject 4.5.8//EN
CALSCALE:GREGORIAN
BEGIN:VEVENT
UID:sabre-vobject-b7bc0724-eeac-4697-9701-93235b4d04d0
DTSTAMP:20260422T051950Z
SUMMARY:Misereor-Kreuzweg gestalltet von Mission-Entwicklung-Frieden
DESCRIPTION:https://pfarreien-bistum-augsburg.df-preview.de/misereor-kreuzw
 eg-gestalltet-von-mission-entwicklung-frieden_id1678336
DTSTART;TZID=Europe/Berlin:20260327T183000
DURATION:PT30M
LOCATION:St. Albert
END:VEVENT
END:VCALENDAR
