BEGIN:VCALENDAR
VERSION:2.0
PRODID:-//Sabre//Sabre VObject 4.5.8//EN
CALSCALE:GREGORIAN
BEGIN:VEVENT
UID:sabre-vobject-c54f421c-0632-43d9-b023-4235a8dc38cb
DTSTAMP:20260422T034715Z
SUMMARY:Rosenkranz
DESCRIPTION:https://pfarreien-bistum-augsburg.df-preview.de/rosenkranz_id16
 78334
DTSTART;TZID=Europe/Berlin:20260327T080000
DURATION:PT30M
LOCATION:St. Albert
END:VEVENT
END:VCALENDAR
