BEGIN:VCALENDAR
VERSION:2.0
PRODID:-//Sabre//Sabre VObject 4.5.8//EN
CALSCALE:GREGORIAN
BEGIN:VEVENT
UID:sabre-vobject-c3f96dba-e91a-4624-8dfe-ccce079b1063
DTSTAMP:20260422T100026Z
SUMMARY:Hl. Messe
DESCRIPTION:https://pfarreien-bistum-augsburg.df-preview.de/hl-messe_id1678
 333
DTSTART;TZID=Europe/Berlin:20260325T170000
DURATION:PT30M
LOCATION:St. Albert
END:VEVENT
END:VCALENDAR
